BEGIN:VCALENDAR
VERSION:2.0
PRODID:-//Student In Myanmar - ECPv6.15.20//NONSGML v1.0//EN
CALSCALE:GREGORIAN
METHOD:PUBLISH
X-ORIGINAL-URL:https://student.mrcontentmm.com
X-WR-CALDESC:Events for Student In Myanmar
REFRESH-INTERVAL;VALUE=DURATION:PT1H
X-Robots-Tag:noindex
X-PUBLISHED-TTL:PT1H
BEGIN:VTIMEZONE
TZID:Asia/Yangon
BEGIN:STANDARD
TZOFFSETFROM:+0630
TZOFFSETTO:+0630
TZNAME:+0630
DTSTART:20250101T000000
END:STANDARD
END:VTIMEZONE
BEGIN:VEVENT
DTSTART;TZID=Asia/Yangon:20260313T090000
DTEND;TZID=Asia/Yangon:20260313T110000
DTSTAMP:20260423T173805
CREATED:20260312T105426Z
LAST-MODIFIED:20260314T104702Z
UID:139-1773392400-1773399600@student.mrcontentmm.com
SUMMARY:Modern Coding and Computer Skills Workshop 2026
DESCRIPTION:In today’s rapidly changing digital landscape\, having a strong foundation in Modern Coding and Computer Skills is no longer just an option—it is a necessity for students aiming for competitive University Admissions & Scholarships. Whether you are a student looking to enhance your CV or a professional aiming to automate your workflow\, understanding how technology works is the ultimate superpower. This upcoming workshop is designed to take you from a beginner to a confident tech user through hands-on practice\, giving you a significant edge in the global world of University Admissions & Scholarships. \nIf you want more – Effective Study Habits &amp; Memorization Techniques for Students \nTech Empowerment for University Admissions & Scholarships\nMany people feel overwhelmed by the fast pace of technology. However\, the secret to success is not knowing everything\, but mastering the right tools. Our curriculum focuses on practical application rather than just boring theory. We believe that by learning Modern Coding and Computer Skills\, you can unlock new career opportunities that were previously out of reach. From understanding web development basics to mastering advanced office productivity\, this event covers the essentials you need to thrive. \nCoding Skills for University Admissions & Scholarships\nDuring this intensive session\, we will dive deep into several core areas: \n\n\nWeb Foundations: Introduction to HTML\, CSS\, and basic logic. \n\n\nAI Productivity: How to use modern AI tools to speed up your daily tasks. \n\n\nData Management: Mastering Excel and cloud-based collaboration tools. \n\n\nProblem Solving: Developing the “programmer’s mindset” to tackle complex challenges. \n\n\nMeet Your Lead Instructor\nLed By:  U Aung Kyaw Min\, a Senior Software Engineer with over a decade of experience in the international tech industry. He is a certified instructor known for his “gentle and step-by-step” teaching style\, making complex Modern Coding and Computer Skills easy for anyone to understand. \nEvent Logistics and Schedule\n\n\nLocation: Join us in person at the Yangon Tech Hub (Level 4\, Junction City) or participate virtually via Zoom from anywhere in Myanmar. \n\n\nDate: March 22\, 2026 \n\n\nTime & Schedule: * 09:00 AM – 12:00 PM: Foundation & Logic Session \n\n\n01:00 PM – 04:00 PM: Live Coding & Project Lab \n\n\n\n\nIf you want to more – Guide to University Admissions and Scholarships 2026
URL:https://student.mrcontentmm.com/event/charting-your-path-the-ultimate-guide-to-university-admissions-global-scholarships/
CATEGORIES:Skill
ATTACH;FMTTYPE=image/jpeg:https://student.mrcontentmm.com/wp-content/uploads/2026/03/a-cheerful-student-enters-the-classroom-where-a-teacher-is-seated-at-a-desk-ready-for-class.-8500309-scaled.jpg
END:VEVENT
END:VCALENDAR