BEGIN:VCALENDAR
VERSION:2.0
PRODID:-//Student In Myanmar - ECPv6.15.20//NONSGML v1.0//EN
CALSCALE:GREGORIAN
METHOD:PUBLISH
X-WR-CALNAME:Student In Myanmar
X-ORIGINAL-URL:https://student.mrcontentmm.com
X-WR-CALDESC:Events for Student In Myanmar
REFRESH-INTERVAL;VALUE=DURATION:PT1H
X-Robots-Tag:noindex
X-PUBLISHED-TTL:PT1H
BEGIN:VTIMEZONE
TZID:Asia/Yangon
BEGIN:STANDARD
TZOFFSETFROM:+0630
TZOFFSETTO:+0630
TZNAME:+0630
DTSTART:20250101T000000
END:STANDARD
END:VTIMEZONE
BEGIN:VEVENT
DTSTART;TZID=Asia/Yangon:20260315T090000
DTEND;TZID=Asia/Yangon:20260315T103000
DTSTAMP:20260423T174057
CREATED:20260312T103706Z
LAST-MODIFIED:20260314T042320Z
UID:134-1773565200-1773570600@student.mrcontentmm.com
SUMMARY:Digital Skills For Future
DESCRIPTION:Are you a young person looking to master the top three digital skills for future job market success? This special seminar bridges the gap between Myanmar education and international scholarship opportunities by providing essential training\, ensuring you gain the technical edge required to stand out globally. \nWhether you aspire to be a Content Creator\, a Graphic Designer\, or a Developer ready to step into the tech industry\, this event is your gateway to success. We focus on providing the essential Digital Skills For Future job market requirements\, helping you build the technical foundation needed to thrive. \nIf you want to more learning in Personal development Read this –How to Strive Internal Scholarships \nWhat Will You Learn? (Mastering Digital Skills For Future Success)\nAt this seminar\, industry expert Mr. Han will share deep insights into the most critical Digital Skills For Future success. He will guide attendees through a comprehensive roadmap\, helping them understand: \n\n\nHere are three core pillars to help you build that foundation: \n\n\nVideo Editing: Learn techniques for creating cinematic\, high-quality videos and master current editing trends. Proficiency here allows you to build a powerful digital portfolio that showcases your story to scholarship committees and employers alike. \n\n\nGraphic Design: Uncover the secrets behind eye-catching designs and modern visual communication. Mastering design principles helps you present your ideas clearly and professionally\, a critical Future Creator Skill. \n\n\nCoding (Software Development): Develop foundational coding skills and explore the latest career paths in the tech world. Understanding the “language of the future” enhances your problem-solving abilities and makes you an invaluable asset in any global industry.
URL:https://student.mrcontentmm.com/event/future-creator-skills/
LOCATION:Path Royal Hotel\, Larnmadaw\, Yangon\, Myanmar
CATEGORIES:Skill
ATTACH;FMTTYPE=image/jpeg:https://student.mrcontentmm.com/wp-content/uploads/2026/03/students-working-on-electronics-projects-in-a.jpeg
ORGANIZER;CN="Student In Myanmar":MAILTO:info@studentinmyanmar.org
END:VEVENT
END:VCALENDAR