BEGIN:VCALENDAR
VERSION:2.0
PRODID:-//Student In Myanmar - ECPv6.15.20//NONSGML v1.0//EN
CALSCALE:GREGORIAN
METHOD:PUBLISH
X-ORIGINAL-URL:https://student.mrcontentmm.com
X-WR-CALDESC:Events for Student In Myanmar
REFRESH-INTERVAL;VALUE=DURATION:PT1H
X-Robots-Tag:noindex
X-PUBLISHED-TTL:PT1H
BEGIN:VTIMEZONE
TZID:Asia/Yangon
BEGIN:STANDARD
TZOFFSETFROM:+0630
TZOFFSETTO:+0630
TZNAME:+0630
DTSTART:20250101T000000
END:STANDARD
END:VTIMEZONE
BEGIN:VEVENT
DTSTART;TZID=Asia/Yangon:20260314T140000
DTEND;TZID=Asia/Yangon:20260314T153000
DTSTAMP:20260420T043249
CREATED:20260312T105452Z
LAST-MODIFIED:20260313T155901Z
UID:138-1773496800-1773502200@student.mrcontentmm.com
SUMMARY:Special Webinar: Applying for International Scholarships
DESCRIPTION:This is a golden opportunity for students who have completed their matriculation/high school to turn their dreams into reality. In this webinar\, we will discuss in detail how you can pursue your undergraduate studies at prestigious international universities with Full Scholarships by Applying for International Scholarships effectively. \nOur expert\, Mr. Brown\, will be sharing the “secrets” to winning scholarships that every student needs to know. \n\nIf you want to more learning in Personal development Read this – How to Strive Internal Scholarships\n \nWhich countries can you apply for International Scholarship?\nWhen Applying for International Scholarships\, it is essential to remember that success often depends on your ability to align your personal achievements and goals with the specific values and priorities of the organization or university providing the funding. \n\nUSA 🇺🇸: Financial Aid and Scholarships from Ivy League schools and top Liberal Arts Colleges.\nUK 🇬🇧: Undergraduate scholarships and university admission guides.\nEurope 🇪🇺: Free education and government scholarships in Germany\, Hungary\, and Italy.\nAsia 🌏: Scholarships from top universities in Singapore\, Thailand\, Japan\, and Korea.\nAustralia 🇦🇺: Destination Australia and university-specific Merit-based Scholarships.\n\nWhat will you learn in the webinar regarding Applying for International Scholarships?\n\nHow to start your preparation as a fresh high school graduate.\nHow to write a compelling Statement of Purpose (SOP) and Resume.\nThe essential qualifications needed to secure a Fully Funded Scholarship.\nThe importance of IELTS/TOEFL and other standardized tests.
URL:https://student.mrcontentmm.com/event/special-webinar-applying-for-international-scholarships/
CATEGORIES:Academic
ATTACH;FMTTYPE=image/jpeg:https://student.mrcontentmm.com/wp-content/uploads/2026/03/a-group-of-diverse-students-collaborating-on-laptops-in-a-classroom-setting-guided-by-a-teacher.-5212687-scaled.jpg
ORGANIZER;CN="Student In Myanmar":MAILTO:info@studentinmyanmar.org
END:VEVENT
END:VCALENDAR