BEGIN:VCALENDAR
VERSION:2.0
PRODID:-//Student In Myanmar - ECPv6.15.20//NONSGML v1.0//EN
CALSCALE:GREGORIAN
METHOD:PUBLISH
X-ORIGINAL-URL:https://student.mrcontentmm.com
X-WR-CALDESC:Events for Student In Myanmar
REFRESH-INTERVAL;VALUE=DURATION:PT1H
X-Robots-Tag:noindex
X-PUBLISHED-TTL:PT1H
BEGIN:VTIMEZONE
TZID:Asia/Yangon
BEGIN:STANDARD
TZOFFSETFROM:+0630
TZOFFSETTO:+0630
TZNAME:+0630
DTSTART:20250101T000000
END:STANDARD
END:VTIMEZONE
BEGIN:VEVENT
DTSTART;TZID=Asia/Yangon:20260316T100000
DTEND;TZID=Asia/Yangon:20260316T113000
DTSTAMP:20260420T041935
CREATED:20260312T110333Z
LAST-MODIFIED:20260314T102558Z
UID:144-1773655200-1773660600@student.mrcontentmm.com
SUMMARY:Guide to University Admissions and Scholarships 2026
DESCRIPTION:Charting Your Path: Guide to University Admissions & Scholarships\nNavigating the transition to higher education is one of the most significant milestones in a student’s life. However\, the process of University Admissions & Scholarships (1) can often feel like a maze of endless paperwork and confusing requirements. Our goal with this seminar is to provide a clear\, stress-free roadmap that helps students and parents understand exactly what is needed to secure a bright academic future. \nUnlocking Global Opportunities for Students\nThe world of international education is full of possibilities\, but many students miss out simply because they don’t have the right information at the right time. Securing admission and financial aid requires more than just high exam scores; it requires a strategic approach to storytelling through your personal statement and a deep understanding of what different universities value. In this session\, we break down the myths and provide you with proven facts. \nMastering University Admissions & Scholarships Strategies (2)\nOur expert-led sessions will focus on the following critical pillars: \n\n\nPortfolio Building: How to showcase your extracurricular activities effectively. \n\n\nEssay Writing: Crafting a personal statement that captures the attention of admission officers. \n\n\nFinancial Aid: Identifying full-funded vs. partial study grants  worldwide. \n\n\nInterview Prep: Practicing for scholarship interviews with confidence and poise. \n\n\nLearn from an Academic Expert\nLed By: Daw Thiri Shwe Sin\, a highly respected Academic Consultant and Senior Lecturer at the International Education Institute. She has successfully guided over 500 students through the complexities of University Admissions & Scholarships (3)\, helping them reach top universities in the UK\, USA\, and Australia. \nIf you want more – Modern Coding and Computer Skills Workshop 2026
URL:https://student.mrcontentmm.com/event/charting-your-path-the-ultimate-guide-to-university-admissions-global-scholarships-2/
CATEGORIES:Academic
ATTACH;FMTTYPE=image/jpeg:https://student.mrcontentmm.com/wp-content/uploads/2026/03/stack-of-books-and-chalk-on-desk-with-abc-on-blackboard-background.-265076-scaled.jpg
END:VEVENT
END:VCALENDAR